BEGIN:VCALENDAR
VERSION:2.0
PRODID:-//Fraserburgh Running Club - ECPv6.15.3//NONSGML v1.0//EN
CALSCALE:GREGORIAN
METHOD:PUBLISH
X-WR-CALNAME:Fraserburgh Running Club
X-ORIGINAL-URL:https://fraserburghrunningclub.co.uk
X-WR-CALDESC:Events for Fraserburgh Running Club
REFRESH-INTERVAL;VALUE=DURATION:PT1H
X-Robots-Tag:noindex
X-PUBLISHED-TTL:PT1H
BEGIN:VTIMEZONE
TZID:Europe/London
BEGIN:DAYLIGHT
TZOFFSETFROM:+0000
TZOFFSETTO:+0100
TZNAME:BST
DTSTART:20230326T010000
END:DAYLIGHT
BEGIN:STANDARD
TZOFFSETFROM:+0100
TZOFFSETTO:+0000
TZNAME:GMT
DTSTART:20231029T010000
END:STANDARD
BEGIN:DAYLIGHT
TZOFFSETFROM:+0000
TZOFFSETTO:+0100
TZNAME:BST
DTSTART:20240331T010000
END:DAYLIGHT
BEGIN:STANDARD
TZOFFSETFROM:+0100
TZOFFSETTO:+0000
TZNAME:GMT
DTSTART:20241027T010000
END:STANDARD
BEGIN:DAYLIGHT
TZOFFSETFROM:+0000
TZOFFSETTO:+0100
TZNAME:BST
DTSTART:20250330T010000
END:DAYLIGHT
BEGIN:STANDARD
TZOFFSETFROM:+0100
TZOFFSETTO:+0000
TZNAME:GMT
DTSTART:20251026T010000
END:STANDARD
END:VTIMEZONE
BEGIN:VEVENT
DTSTART;VALUE=DATE:20250208
DTEND;VALUE=DATE:20250209
DTSTAMP:20260425T222313
CREATED:20241223T143815Z
LAST-MODIFIED:20241223T143815Z
UID:3500-1738972800-1739059199@fraserburghrunningclub.co.uk
SUMMARY:National Masters XC Championships
DESCRIPTION:Date\nSaturday 8th February\, 2025\n\n\nDistance\n6K/8K\n\n\nLocation\nCamperdown Country ParkApproximate race distances for each age group are as follows: \n\n    W40 and over 6000m\n    M65 and over 6000m\n    M40 – M60 8000mMasters XC Champs\nEntries close at 5pm on Thursday 23rd January. No late entries will be accepted. Entries to be made via the Club Secretary. Please indicate asap if you are interested in attending. \nAll athletes must compete for their first claim (Scottish) club or their school/university club (if affiliated). \n\nAthletes who compete in a scottishathletics championship MUST be current members of scottishathletics on the day of the race. Individuals or Team managers will not be able to enter athletes without a valid membership online\, so it is important that membership validity is checked well in advance of the closing date. There will be no entry extensions for membership renewals.\n\n\n\n\n\n 
URL:https://fraserburghrunningclub.co.uk/event/national-masters-xc-championships/
LOCATION:Camperdown Country Park\, Dundee
END:VEVENT
BEGIN:VEVENT
DTSTART;TZID=Europe/London:20250118T140000
DTEND;TZID=Europe/London:20250118T150000
DTSTAMP:20260425T222313
CREATED:20241223T141955Z
LAST-MODIFIED:20241223T141955Z
UID:3490-1737208800-1737212400@fraserburghrunningclub.co.uk
SUMMARY:North District XC League Race 4 Nairn
DESCRIPTION:Date\nSaturday 18th January\, 2025\n\n\nDistance\n8k ish\n\n\nLocation\nThe Links\n\n\n\n  \nClub Vests to be worn. Includes non SAL members. \nEarlier race starts for youngsters and juniors
URL:https://fraserburghrunningclub.co.uk/event/north-district-xc-league-race-4-nairn/
LOCATION:Nairn Links
END:VEVENT
BEGIN:VEVENT
DTSTART;TZID=Europe/London:20250110T130000
DTEND;TZID=Europe/London:20250110T133000
DTSTAMP:20260425T222313
CREATED:20241223T142422Z
LAST-MODIFIED:20241223T142422Z
UID:3495-1736514000-1736515800@fraserburghrunningclub.co.uk
SUMMARY:Metro Aberdeen Proms 3K Winter Series Race 4
DESCRIPTION:Date\nFriday 10th January\, 2025\n\n\nDistance\n3K\n\n\nLocation\nThe Beach Esplanade\n\n\n\n 
URL:https://fraserburghrunningclub.co.uk/event/metro-aberdeen-proms-3k-winter-series-race-4/
LOCATION:Aberdeen Beach Prom\, AB24 5QA
END:VEVENT
BEGIN:VEVENT
DTSTART;TZID=Europe/London:20250108T180000
DTEND;TZID=Europe/London:20250108T190000
DTSTAMP:20260425T222313
CREATED:20241223T142928Z
LAST-MODIFIED:20241223T142928Z
UID:3497-1736359200-1736362800@fraserburghrunningclub.co.uk
SUMMARY:FRC Winter Handicap Race 7
DESCRIPTION:Fortnightly handicap run Starting from Fraserburgh Community Centre with Clock starting at 6:00pm \nIf new members wish to join in\, contact Club Secretary\, preferably via the Teamreach App so that you can be allocated a provisional handicap.
URL:https://fraserburghrunningclub.co.uk/event/frc-winter-handicap-race-7/
LOCATION:Fraserburgh Sports Centre
END:VEVENT
BEGIN:VEVENT
DTSTART;TZID=Europe/London:20250104T110000
DTEND;TZID=Europe/London:20250104T120000
DTSTAMP:20260425T222313
CREATED:20241223T141246Z
LAST-MODIFIED:20241223T141417Z
UID:3485-1735988400-1735992000@fraserburghrunningclub.co.uk
SUMMARY:El-Brim-ick Dash
DESCRIPTION:Date\nSaturday 4th January\, 2025\n\n\nDistance\n4.25M\n\n\nLocation\nCraibstone Golf Club\n\n\n\n 
URL:https://fraserburghrunningclub.co.uk/event/el-brim-ick-dash/
LOCATION:Craibstone Golf Club\, AB21 9SX
END:VEVENT
BEGIN:VEVENT
DTSTART;TZID=Europe/London:20250102T093000
DTEND;TZID=Europe/London:20250102T120000
DTSTAMP:20260425T222313
CREATED:20241223T140949Z
LAST-MODIFIED:20241223T140949Z
UID:3481-1735810200-1735819200@fraserburghrunningclub.co.uk
SUMMARY:Lumphanan Detox 10K
DESCRIPTION:The 10km (almost circular) course begins with a long\, steady incline – lasting about 2km. It is hard work getting to the top of this; but once you are at the top it is pretty well downhill or flat for the rest of the course (Route A only! … Route B has another hill at 7.5 kms.)
URL:https://fraserburghrunningclub.co.uk/event/lumphanan-detox-10k/
LOCATION:Lumphanan Area	North East Start postcode	AB31 4SU
END:VEVENT
BEGIN:VEVENT
DTSTART;TZID=Europe/London:20241228T103000
DTEND;TZID=Europe/London:20241228T140000
DTSTAMP:20260425T222313
CREATED:20241223T140743Z
LAST-MODIFIED:20241223T140743Z
UID:3479-1735381800-1735394400@fraserburghrunningclub.co.uk
SUMMARY:Brewdog Christmas Run
DESCRIPTION:This is a fun run – not a race\, run at a steady pace\, via the Gallowgate\, Haudagain\, and Dyce\, and then along the old railway line to Ellon. \nYou can expect to take around 3 1/2 to 4 hours to cover the 21 miles. \nIf the full run seems a bit much\, then you can start at Dyce\, and reduce the distance to 15 miles (24k). \nOn arrival at DogTap\, finishers will have the whole of the museum room to use.
URL:https://fraserburghrunningclub.co.uk/event/brewdog-christmas-run/
LOCATION:BrewDog Castlegate\, Aberdeen
END:VEVENT
BEGIN:VEVENT
DTSTART;TZID=Europe/London:20241222T133000
DTEND;TZID=Europe/London:20241222T160000
DTSTAMP:20260425T222313
CREATED:20241208T145928Z
LAST-MODIFIED:20241208T145928Z
UID:3468-1734874200-1734883200@fraserburghrunningclub.co.uk
SUMMARY:Kayleigh's Wee Stars Turkey Trot
DESCRIPTION:KWS Turkey Trot (Just Under 8K) \nCALLING ALL TURKEYS! \nYour final calling is on Sunday the afternoon of the 22nd of December.  Come and join us for a Christmas Fun Run. \nHere are the need to knows: \n–               Sunday 22nd December \n–               Oldmeldrum Legion (Meldrum Town Centre) \n–               8K Fun Run (7.8Km) – no racing\, no prizes\, wear a Santa hat if you like\, sociable run \n–               At the halfway turn point\, meet some Festive Friends who will be cheering you on! \n–               No water stop – self-sufficient Fun Run \n–               Finisher Goody – BESPOKE KWS CHRISTMAS DECORATION! \n–               Route below – quiet country road but OPEN ROADS \n–               Age 16 years + (Supporters welcome on route and family fun in the Legion) \n–               Registration 1.15pm – 1.55pm \n–               Fun Run Starts 2.00pm \n–               £20.00 entry\, all proceeds to Kayleigh’s Wee Stars \n–               Refreshments in the Legion after for all finishers and families \n–               Christmas Fun in the Legion for families and supporters all afternoon
URL:https://fraserburghrunningclub.co.uk/event/kayleighs-wee-stars-turkey-trot/
END:VEVENT
BEGIN:VEVENT
DTSTART;VALUE=DATE:20241207
DTEND;VALUE=DATE:20241208
DTSTAMP:20260425T222313
CREATED:20241130T161001Z
LAST-MODIFIED:20241130T161251Z
UID:3387-1733529600-1733615999@fraserburghrunningclub.co.uk
SUMMARY:ND League Aden Park XC (organised by Peterhead AC)
DESCRIPTION:FRC Members only need to turn up and run with Club colours on display. Races from 1:15pm. \nSenior men and Women  start 2:15pm \, 8.5km \nhttps://sites.google.com/view/the-northleague/7th-dec-2024-peterhead \n 
URL:https://fraserburghrunningclub.co.uk/event/nd-league-aden-park-xc-organised-by-peterhead-ac/
LOCATION:Aden/Pitfour Mintlaw
END:VEVENT
BEGIN:VEVENT
DTSTART;TZID=Europe/London:20241206T130000
DTEND;TZID=Europe/London:20241206T140000
DTSTAMP:20260425T222313
CREATED:20241201T140254Z
LAST-MODIFIED:20241201T140254Z
UID:3392-1733490000-1733493600@fraserburghrunningclub.co.uk
SUMMARY:Metro 3k Aberdeen Prom Race 3 of 6
DESCRIPTION:Pre -Entry via Following link only. Lunch time race. No 3 in the Winter Series. \nhttps://www.entrycentral.com/festival/3301
URL:https://fraserburghrunningclub.co.uk/event/metro-3k-aberdeen-prom-race-3-of-6/
LOCATION:Aberdeen Beach Prom\, AB24 5QA
END:VEVENT
BEGIN:VEVENT
DTSTART;TZID=Europe/London:20241204T180000
DTEND;TZID=Europe/London:20241204T190000
DTSTAMP:20260425T222313
CREATED:20241130T161203Z
LAST-MODIFIED:20241202T124003Z
UID:3390-1733335200-1733338800@fraserburghrunningclub.co.uk
SUMMARY:Winter H'cap Race 5
DESCRIPTION:Meet at Community Centre for your start time. \nWinter H’Cap 2024_25 – Winter 05
URL:https://fraserburghrunningclub.co.uk/event/winter-hcap-race-5/
LOCATION:Fraserburgh Sports Centre
END:VEVENT
BEGIN:VEVENT
DTSTART;VALUE=DATE:20250101
DTEND;VALUE=DATE:20250102
DTSTAMP:20260425T222313
CREATED:20241201T141201Z
LAST-MODIFIED:20241223T144234Z
UID:3398-1735689600-1735689600@fraserburghrunningclub.co.uk
SUMMARY:RunABC Event Calendar
DESCRIPTION:Open the Link to open the RunABC race listing page.
URL:https://fraserburghrunningclub.co.uk/event/runabc-event-calendar/
END:VEVENT
BEGIN:VEVENT
DTSTART;VALUE=DATE:20230819
DTEND;VALUE=DATE:20230820
DTSTAMP:20260425T222313
CREATED:20230418T114944Z
LAST-MODIFIED:20230419T160218Z
UID:2070-1692403200-1692489599@fraserburghrunningclub.co.uk
SUMMARY:Mormond hill race
DESCRIPTION:Friendly small hill race from Strichen \nentry via Entrycentral opens Sunday noon 23/4/23
URL:https://fraserburghrunningclub.co.uk/event/mormond-hill-race-2/
LOCATION:Strichen
END:VEVENT
BEGIN:VEVENT
DTSTART;VALUE=DATE:20230806
DTEND;VALUE=DATE:20230807
DTSTAMP:20260425T222313
CREATED:20230411T151421Z
LAST-MODIFIED:20230411T151421Z
UID:2063-1691280000-1691366399@fraserburghrunningclub.co.uk
SUMMARY:Deveron Harrier's festival of running
DESCRIPTION:DEVERON HARRIERS FESTIVAL OF RUNNING \nThe Deveron Valley Half Marathon & 10k returns with new additions of a 5k and kids 1K fun run. This will coincide with the Banff Rugby Club fun day. \nSunday 06th August 2023 \nIn this multi-terrain race runners will follow the River Deveron from Turriff to Banff. \nRunners of all levels will enjoy beautiful scenery and stunning views. \nThe half marathon will set off from Turriff with the route predominantly following a quiet road along the number 1 national cycle route. The 10k joins on along the same route at Castle Eden. \nIn the latter part of the run you will enter a woodland trail crossing the spectacular Bridge of Alvah then through the historic Duff House grounds passing the Ice House and Mausoleum\, before finishing at the Duff House Rugby club playing pitches. \nThe 5k will be a trail run through the grounds of Duff house. \nMassive thanks to our sponsors Structured Finanical Planning\, Paul Florence Mortage Services Ltd\, B Barron Plumbing and Heating also P.Milton Roofing Ltd \nHALF MARATHON DETAILS \nRegistration at Duff House Rugby Club Pavillion from 9am (toilets available);\nBus leaves 10am to transport runners to Baden Powell Centre Turriff where the race briefing will take place (toilets available);\nThere will be short walk to the race start line on Baden Powel Road;\nRACE START: 11am Baden Powel Road\,Turriff;\nRACE FINISH: Duff House Rugby Club\, AB45 3SX\n10K DETAILS \nRegistration at Duff House Rugby Club Pavillion from 10am (toilets available);\nBus leaves 10.50am to transport runners to Castle Eden;\nRACE START: Castle Eden\, King Edward\, AB45 3LX at 11:45;\nRACE FINISH: Duff House Rugby Club\, AB45 3SX\n5K DETAILS \nRegistration opens 11am(toilets avaible)\nRace starts at the Rugby pavillon at 11:50(out and back route)\nFinish at the Rugby pavillon\nJUNIOR 1K FUN RUN \nJunior fun run contained in the Rugby pitches/Duff house woods\n*ALL race finishers will receive a medal and goody bag**\nOnline entry closing date 30 July 2023
URL:https://fraserburghrunningclub.co.uk/event/deveron-harriers-festival-of-running/
END:VEVENT
BEGIN:VEVENT
DTSTART;TZID=Europe/London:20230730T120000
DTEND;TZID=Europe/London:20230730T133000
DTSTAMP:20260425T222313
CREATED:20230423T184926Z
LAST-MODIFIED:20230423T184926Z
UID:2077-1690718400-1690723800@fraserburghrunningclub.co.uk
SUMMARY:Ballater 10 mile race
DESCRIPTION:A 10 mile road race through superb countryside
URL:https://fraserburghrunningclub.co.uk/event/ballater-10-mile-race/
END:VEVENT
BEGIN:VEVENT
DTSTART;TZID=Europe/London:20230716T110000
DTEND;TZID=Europe/London:20230716T130000
DTSTAMP:20260425T222313
CREATED:20230415T163834Z
LAST-MODIFIED:20230415T163834Z
UID:2067-1689505200-1689512400@fraserburghrunningclub.co.uk
SUMMARY:Alford 10K
DESCRIPTION:  \nIn the second running of Alford’s 10k race\, you’ll run through Haughton Park\, through the glorious Donside countryside\, before finishing in front of family and friends on the track at the Grampian Transport Museum.  The number of places have been increased to 400 this year due to the demand in our first year. \nWhen: 11:00am\, Sunday 16th July 2023 \nWhere: Grampian Transport Museum\, Alford \nEntry Fee: £20 (£18 for SA members).  Please note entries must be in advance – no entries on the day. \nMinimum age – 16yrs \nPlaces are limited to 400.
URL:https://fraserburghrunningclub.co.uk/event/alford-10k/
END:VEVENT
BEGIN:VEVENT
DTSTART;TZID=Europe/London:20230716T110000
DTEND;TZID=Europe/London:20230716T130000
DTSTAMP:20260425T222313
CREATED:20230411T150030Z
LAST-MODIFIED:20230411T150134Z
UID:2055-1689505200-1689512400@fraserburghrunningclub.co.uk
SUMMARY:Chapelton of Elsick 10K Sunday 16th July 2023
DESCRIPTION:Welcome to the fourth Chapelton of Elsick 10K – an accurately measured route. This is an undulating multi terrain race through the beautiful Elsick House estate\, starting and finishing in the village of Chapelton near Newtonhill. Please read our race notes thoroughly to ensure you have a safe and enjoyable race. The majority of the route is on tarmac with some farm tracks and a short grass section\, and remains unchanged from 2019. \nAll standards of runners are very welcome! \nCourse Records: Robbie Simpson 32:25 (2019)\, Jennifer Donaldson 39:15 (2022). \nRegistration: Will take place from 09:00 – 10:30am at The Hut\, Greenlaw Road\, Chapelton. All pre-entered runners must register on the day to collect their race number and buff. There will be an option of a bag drop too. \nChip Timing: This years race is chip timed\, provided by Thistle Timing. \nRace Briefing: There will be a race safety brief at 10:55am. \nStart Time: The race will start prompt from near The Hut at 11am. \nRace Finish: The race will finish near The Hut. \nWater Station: This will be just after the 5k point. \nFirst Aid: There will be First Aid at both the Start/Finish area and at the Water Station. \nHeadphones: We cannot permit the use of in-ear headphones\, as part of the route is on a single carriageway road that is not closed to traffic. Bone conducting headphones and medically prescribed earphones are permitted\, the use of all other in-ear headphones will lead to disqualification. \nRefreshments: Available at Hume Square after the race for all runners\, and available to purchase during the race for spectators. The Boxes @ Chapelton offer a variety of food and drinks. \nToilets: Available close to start/finish area. There will be no showers. \nPrize Giving: Will take place from 12:30pm at Hume Square. \nPrize Categories: Trophies (and £50 £40 £30 respectively) for 1st\, 2nd and 3rd Male and Female finishers. Trophies (and cash prize) for 1st Male and Female under 18 and 1st\, 2nd and 3rd Male and Female over 40\, over 50 & over 60. The Chapelton Residents Shield will be awarded to the first Male and Female Chapelton Resident to finish. All finishers will receive a unique medal and buff. \nEntry: £22. This is online entry only at Entry Central\, and entries will close on the 30th June. \nEntry Transfer: If you can no longer take part in the event\, we are allowing transfers which must be carried out via your own Entry Central account by our deadline of 30th June 2023. \nKids Fun Runs: At 10am there will be a 100m toddler dash for under 5s\, and a 1km race for primary school children\, organised by Friends of Newtonhill (FON). Every child will receive a bespoke medal. Registration can be done on the day at Burgess Park where the races will take place (behind the boxes). For more information and pre-registration (preferred) email ChapeltonFONRun@gmail.com. Please note there will be face painting / bouncy castle etc at Liddell Park. \nGeneral Information: There is plenty parking available in and around Chapelton village and will be clearly sign-posted. \nPlease follow all instructions from the marshals as they are there to ensure your safety. \nOnline entries will close at midnight 30th June. EntryCentral will show the race as ‘Closed’ after this time. Entries will not be accepted on race day. \nFurther updates will be posted to the Facebook page and our website. \nFollow us on Instagram @chapeltonofelsick10k
URL:https://fraserburghrunningclub.co.uk/event/chapelton-of-elsick-10k-sunday-16th-july-2023/
END:VEVENT
BEGIN:VEVENT
DTSTART;TZID=Europe/London:20230702T130000
DTEND;TZID=Europe/London:20230702T143000
DTSTAMP:20260425T222313
CREATED:20230411T144930Z
LAST-MODIFIED:20230411T144930Z
UID:2045-1688302800-1688308200@fraserburghrunningclub.co.uk
SUMMARY:Collieston Multi-Terrain Challenge
DESCRIPTION:Sunday 2 July 2023 at 1300 \nDescription \nA 10k race starting at Collieston Community Centre on an out and back route with lovely sea views through the very scenic Forvie Nature Reserve.  A short run on road at the start and then trails and paths for the remainder. \nProceeds donated to the Community Council for local projects. \nMedals for all finishers.  Refreshments and homebakes afterwards. \nWaiting List \nAn online waiting list will be operated. \nRun \n\n10km run –  16 years or over (on day of run) – start time 1300\n\nEntrance Fees via Entrycentral \n\n10km – £15
URL:https://fraserburghrunningclub.co.uk/event/collieston-multi-terrain-challenge/
END:VEVENT
BEGIN:VEVENT
DTSTART;TZID=Europe/London:20230701T100000
DTEND;TZID=Europe/London:20230701T235900
DTSTAMP:20260425T222313
CREATED:20230128T104317Z
LAST-MODIFIED:20230420T061343Z
UID:1972-1688205600-1688255940@fraserburghrunningclub.co.uk
SUMMARY:Clashmach Hill Race Huntly
DESCRIPTION:Great little hill race. \nSaturday 1st of July 2023 will see the 7th year of the Clashmach Hill Race. The race was resumed in 2017 after a break of 25 years. The route starts from the car park at Huntly Auction Mart\, following the minor road upwards until it meets the path that meanders to the trig point at the top of the hill. The runners then take the same route back down to the finish line at the Mart. \n  \n 
URL:https://fraserburghrunningclub.co.uk/event/clashmach-hill-race-huntly-2/
END:VEVENT
BEGIN:VEVENT
DTSTART;TZID=Europe/London:20230625T080000
DTEND;TZID=Europe/London:20230625T170000
DTSTAMP:20260425T222313
CREATED:20230411T150917Z
LAST-MODIFIED:20230411T150917Z
UID:2060-1687680000-1687712400@fraserburghrunningclub.co.uk
SUMMARY:Turriff 10K
DESCRIPTION:
URL:https://fraserburghrunningclub.co.uk/event/turriff-10k/
END:VEVENT
BEGIN:VEVENT
DTSTART;VALUE=DATE:20230618
DTEND;VALUE=DATE:20230619
DTSTAMP:20260425T222313
CREATED:20230411T145328Z
LAST-MODIFIED:20230411T145328Z
UID:2047-1687046400-1687132799@fraserburghrunningclub.co.uk
SUMMARY:Dunecht Dash 5k and 2k Fun run
DESCRIPTION:
URL:https://fraserburghrunningclub.co.uk/event/dunecht-dash-5k-and-2k-fun-run/
END:VEVENT
BEGIN:VEVENT
DTSTART;TZID=Europe/London:20230611T110000
DTEND;TZID=Europe/London:20230611T130000
DTSTAMP:20260425T222313
CREATED:20230411T145848Z
LAST-MODIFIED:20230411T145848Z
UID:2053-1686481200-1686488400@fraserburghrunningclub.co.uk
SUMMARY:The Rubicer Fraserburgh 10k on Sunday 11th June 2023 at 11.00am
DESCRIPTION:at James Ramsay Park Pavillion\, Maconochie Rd\, Fraserburgh. \nEntry Fee – £18 – SAL Members £16\nPlease note that this event must be pre-entered. There will be absolutely no entries taken on the day. \nRefunds will not be possible\, although swaps will be permitted up to 7 days before the event. \nAny licensed competitions taking place MUST comply with Scottish Government and scottishathletics guidelines available on the date of the event. Guidance will be reviewed following any Scottish Government announcements.  The event may be cancelled at short notice – in whch case\, full refunds will be given. \nPrizes have been generously donated by Rubicer Scotland Ltd (visit www.rubicer.co.uk).  Prizegiving will take place immediately after the event with prizes for 1st\, 2nd and 3rd male and female overall finishers.  Category winners will also be announced for: SM\,VM40\, SVM50\, VintM60\, SW\, VW40\, SVW50\, VintW60 \nMedal for all finishers \nRefreshements will be available at the race finish (subject to Scottish Governemnt guidelines at that time) \nContact address:- Alison West\, 11 Greenbank Gardens\, FRASERBURGH\, AB43 7GE \nPhone: 01346 512847        E-mail alison1.west@hotmail.co.uk
URL:https://fraserburghrunningclub.co.uk/event/the-rubicer-fraserburgh-10k-on-sunday-11th-june-2023-at-11-00am/
END:VEVENT
BEGIN:VEVENT
DTSTART;TZID=Europe/London:20230603T110000
DTEND;TZID=Europe/London:20230603T130000
DTSTAMP:20260425T222313
CREATED:20230411T145504Z
LAST-MODIFIED:20230411T145547Z
UID:2049-1685790000-1685797200@fraserburghrunningclub.co.uk
SUMMARY:The Longside Loop 10 mile race and Junior Mile.
DESCRIPTION:Organised by Peterhead Athletics Club under UK Athletics rules. A Scottish Athletics permitted event \nAs it stands (and subject to change)\, the planned schedule for the day will be: \n\n09:00 – Registration opens for all events.\n09:45 – Junior under-12s and under-16s to gather at church hall and walk to the start.\n10:00 – Start of Junior Mile under 12’s race.\n10:10 – Start of Junior Mile under 16s race.\n10:30 – Junior prizegiving\n10:40 – Seniors to gather at church hall and walk to start.\n10:55 – Pre-race briefing\n11:00 – Start of Brewtoon Longside Loop 10 mile race.\n13:30 (approx) – prizegiving\n\nIf there are any changes in the schedule we will inform you prior to th
URL:https://fraserburghrunningclub.co.uk/event/the-longside-loop-10-mile-race-and-junior-mile/
END:VEVENT
BEGIN:VEVENT
DTSTART;TZID=Europe/London:20230602T190000
DTEND;TZID=Europe/London:20230602T200000
DTSTAMP:20260425T222313
CREATED:20230411T150503Z
LAST-MODIFIED:20230411T150854Z
UID:2058-1685732400-1685736000@fraserburghrunningclub.co.uk
SUMMARY:Metro Beach 10k 2nd June
DESCRIPTION:Fully chip-timed and promoted under Scottish Athletics rules. \nThe race starts across the road from the Beach Leisure Centre on the Upper Prom\, head towards Bridge of Don and turning onto the lower Prome\, then all the way down to Footdee\, turning back up onto the upper Prom and heading back towards the Bridge of Don\, back down onto the lower Prom along to the finish on the lower Prom across from the Beach Leisure Centre.
URL:https://fraserburghrunningclub.co.uk/event/metro-beach-10k-2nd-june/
END:VEVENT
BEGIN:VEVENT
DTSTART;TZID=Europe/London:20230527T100000
DTEND;TZID=Europe/London:20230527T170000
DTSTAMP:20260425T222313
CREATED:20230127T141917Z
LAST-MODIFIED:20230127T141917Z
UID:1961-1685181600-1685206800@fraserburghrunningclub.co.uk
SUMMARY:Stornoway Half Marathon & 10K
DESCRIPTION:Date\nSaturday 27th May\, 2023\n\n\nDistance\nHalf Marathon + other events: 10K\n\n\nLocation\nThe Harbour\n\n\nTown/City\nStornoway\n\n\nArea\nHighlands\n\n\nStart time\n10:00am\n\n\nOrganiser\nGerry Connelly\n\n\nWebsite\nVisit website
URL:https://fraserburghrunningclub.co.uk/event/stornoway-half-marathon-10k/
END:VEVENT
BEGIN:VEVENT
DTSTART;TZID=Europe/London:20230527T080000
DTEND;TZID=Europe/London:20230527T200000
DTSTAMP:20260425T222313
CREATED:20230128T110227Z
LAST-MODIFIED:20230411T144537Z
UID:1976-1685174400-1685217600@fraserburghrunningclub.co.uk
SUMMARY:Kirkhill 8 (8 hour Ultra)
DESCRIPTION:An event for beginners\, experienced ultra runners and racing snakes alike. \nA 4.3 mile loop ran entirely on trails\, over an 8 hour period. \nTarget any distance you want\, 20 miles\, 26.2 miles  50k\, 40 miles or even 50 miles. \nCLOSING DATE FOR ENTRIES \nSunday\, 30th April\, 2023 \nThis will be a pre-entry event only and there will no refunds or deferrals. \nThe race starts and finishes at Kirkhill Forest at 57°12’45.5″N 2°14’15.7″W
URL:https://fraserburghrunningclub.co.uk/event/kirkhill-8-8-hour-ultra/
END:VEVENT
BEGIN:VEVENT
DTSTART;VALUE=DATE:20230527
DTEND;VALUE=DATE:20230528
DTSTAMP:20260425T222313
CREATED:20230413T070140Z
LAST-MODIFIED:20230415T163402Z
UID:2065-1685145600-1685231999@fraserburghrunningclub.co.uk
SUMMARY:Barra 10k
DESCRIPTION:The Kayleigh’s Wee Stars Barra 10 is back and will be held on Saturday the 27th May 2023. This is a popular and challenging multi terrain trail over the Barra Hill with spectacular views across the North East countryside. The atmosphere is welcoming and fun and has something for everyone. It’s family friendly too with junior races taking place before the main event. Don’t miss out\, this is definitely one to include in your 2022 calendar.
URL:https://fraserburghrunningclub.co.uk/event/barra-10k/
END:VEVENT
BEGIN:VEVENT
DTSTART;VALUE=DATE:20230527
DTEND;VALUE=DATE:20230528
DTSTAMP:20260425T222313
CREATED:20230127T141806Z
LAST-MODIFIED:20230127T141806Z
UID:1959-1685145600-1685231999@fraserburghrunningclub.co.uk
SUMMARY:Edinburgh Marathon Festival Junior Races
DESCRIPTION:Date\nSaturday 27th May\, 2023\n\n\nDistance\n5K + other events: 2K\, 1.5K\, 1K\n\n\nLocation\nHolyrood Park\n\n\nTown/City\nEdinburgh\n\n\nArea\nEdinburgh & The Lothians\n\n\nStart postcode\nEH8 8HG\n\n\nOrganiser\nGSi Events\n\n\nWebsite\nVisit website
URL:https://fraserburghrunningclub.co.uk/event/edinburgh-marathon-festival-junior-races/
END:VEVENT
BEGIN:VEVENT
DTSTART;VALUE=DATE:20230521
DTEND;VALUE=DATE:20230522
DTSTAMP:20260425T222313
CREATED:20230127T141706Z
LAST-MODIFIED:20230127T141706Z
UID:1957-1684627200-1684713599@fraserburghrunningclub.co.uk
SUMMARY:Gordon Castle 10K
DESCRIPTION:Date\nSunday 21st May\, 2023\n\n\nDistance\n10K\n\n\nLocation\nGordon Castle Estate\n\n\nTown/City\nFochabers\n\n\nArea\nNorth East\n\n\nStart postcode\nIV32 7PQ\n\n\nOrganiser\nSpey Runners Race Committee\n\n\nWebsite\nVisit website
URL:https://fraserburghrunningclub.co.uk/event/gordon-castle-10k-2/
END:VEVENT
BEGIN:VEVENT
DTSTART;TZID=Europe/London:20230514T080000
DTEND;TZID=Europe/London:20230514T170000
DTSTAMP:20260425T222313
CREATED:20230127T141617Z
LAST-MODIFIED:20230127T141617Z
UID:1955-1684051200-1684083600@fraserburghrunningclub.co.uk
SUMMARY:Run Garioch Half Marathon\, 10K\, 5K & Junior Race
DESCRIPTION:Date\nSunday 14th May\, 2023\n\n\nDistance\nHalf Marathon + other events: 5K\, 10K\, Fun Run\n\n\nLocation\nGarioch Sports Centre\n\n\nTown/City\nInverurie\n\n\nArea\nNorth East\n\n\nStart postcode\nAB51 4GY\n\n\nWebsite\nVisit website
URL:https://fraserburghrunningclub.co.uk/event/run-garioch-half-marathon-10k-5k-junior-race/
END:VEVENT
END:VCALENDAR