BEGIN:VCALENDAR
VERSION:2.0
PRODID:-//Fraserburgh Running Club - ECPv6.15.3//NONSGML v1.0//EN
CALSCALE:GREGORIAN
METHOD:PUBLISH
X-WR-CALNAME:Fraserburgh Running Club
X-ORIGINAL-URL:https://fraserburghrunningclub.co.uk
X-WR-CALDESC:Events for Fraserburgh Running Club
REFRESH-INTERVAL;VALUE=DURATION:PT1H
X-Robots-Tag:noindex
X-PUBLISHED-TTL:PT1H
BEGIN:VTIMEZONE
TZID:Europe/London
BEGIN:DAYLIGHT
TZOFFSETFROM:+0000
TZOFFSETTO:+0100
TZNAME:BST
DTSTART:20220327T010000
END:DAYLIGHT
BEGIN:STANDARD
TZOFFSETFROM:+0100
TZOFFSETTO:+0000
TZNAME:GMT
DTSTART:20221030T010000
END:STANDARD
BEGIN:DAYLIGHT
TZOFFSETFROM:+0000
TZOFFSETTO:+0100
TZNAME:BST
DTSTART:20230326T010000
END:DAYLIGHT
BEGIN:STANDARD
TZOFFSETFROM:+0100
TZOFFSETTO:+0000
TZNAME:GMT
DTSTART:20231029T010000
END:STANDARD
END:VTIMEZONE
BEGIN:VEVENT
DTSTART;TZID=Europe/London:20230312T123000
DTEND;TZID=Europe/London:20230312T170000
DTSTAMP:20260426T000501
CREATED:20230127T140444Z
LAST-MODIFIED:20230127T140444Z
UID:1939-1678624200-1678640400@fraserburghrunningclub.co.uk
SUMMARY:Inverness Half Marathon & 5K
DESCRIPTION:Date\nSunday 12th March\, 2023\n\n\nDistance\nHalf Marathon + other events: 5K\n\n\nLocation\nBught Park\n\n\nTown/City\nInverness\n\n\nArea\nHighlands\n\n\nStart postcode\nIV3 5SP\n\n\nStart time\n12:30pm\n\n\nOrganiser\nShuna Colquhoun\n\n\nWebsite\nVisit website
URL:https://fraserburghrunningclub.co.uk/event/inverness-half-marathon-5k/
END:VEVENT
BEGIN:VEVENT
DTSTART;TZID=Europe/London:20230305T143000
DTEND;TZID=Europe/London:20230305T170000
DTSTAMP:20260426T000501
CREATED:20230127T140252Z
LAST-MODIFIED:20230127T140252Z
UID:1937-1678026600-1678035600@fraserburghrunningclub.co.uk
SUMMARY:Nairn 10K
DESCRIPTION:Date\nSunday 5th March\, 2023\n\n\nDistance\n10K\n\n\nLocation\nCommunity Centre\n\n\nTown/City\nNairn\n\n\nArea\nNorth East\n\n\nStart postcode\nIV12 4BQ\n\n\nStart time\n2:30pm\n\n\nWebsite\nVisit website
URL:https://fraserburghrunningclub.co.uk/event/nairn-10k/
END:VEVENT
BEGIN:VEVENT
DTSTART;TZID=Europe/London:20230304T100000
DTEND;TZID=Europe/London:20230304T140000
DTSTAMP:20260426T000501
CREATED:20220207T131806Z
LAST-MODIFIED:20220827T134835Z
UID:986-1677924000-1677938400@fraserburghrunningclub.co.uk
SUMMARY:Glack Trail 2023
DESCRIPTION:An adventure trail run\, weaving around stunning Aberdeenshire wilderness. Perfect for all abilities.In the middle of nowhere (approx 20 minutes outside of Aberdeen…) lies the infamous Glack Hill\, shrouded in mystery and guarded by angry looking sheep. Once a year\, the gates open and brave adventurers are challenged to take on its brutal trails! \nGlack Trail is about running and leaping around forests\, hills and open countryside. Our unique course weaves around stunning wilderness without an inch of tarmac in sight. \nThe timed event is perfect for all – from hardened trail runners to first time adventurers. \nhttps://www.eventbrite.co.uk/e/glack-trail-2022-registration-170024211995?fbclid=IwAR0hs-Y7FLUutMLreIGlaGUjzMkiL7SxinHn7onJtdPVeMAsusghXE3uizg \nNB the event previously scheduled for 10/9/22 has been postponed to 2023
URL:https://fraserburghrunningclub.co.uk/event/glack-trail-2022/
END:VEVENT
BEGIN:VEVENT
DTSTART;TZID=Europe/London:20230303T130000
DTEND;TZID=Europe/London:20230303T140000
DTSTAMP:20260426T000501
CREATED:20230127T140035Z
LAST-MODIFIED:20230127T140035Z
UID:1935-1677848400-1677852000@fraserburghrunningclub.co.uk
SUMMARY:Metro Aberdeen Proms 3K Winter Series Race 6
DESCRIPTION:Date\nFriday 3rd March\, 2023\n\n\nDistance\n3K\n\n\nLocation\nThe Beach Esplanade\n\n\nTown/City\nAberdeen\n\n\nArea\nNorth East\n\n\nOrganiser\nJackie Stewart\n\n\nWebsite\nVisit website
URL:https://fraserburghrunningclub.co.uk/event/metro-aberdeen-proms-3k-winter-series-race-6/
END:VEVENT
BEGIN:VEVENT
DTSTART;VALUE=DATE:20230225
DTEND;VALUE=DATE:20230226
DTSTAMP:20260426T000501
CREATED:20230127T133907Z
LAST-MODIFIED:20230127T133907Z
UID:1931-1677283200-1677369599@fraserburghrunningclub.co.uk
SUMMARY:Scottish National XC Championships
DESCRIPTION:This event is open to members of scottishathletics only \n\n\n\n\n\nDate\nSaturday 25th February\, 2023\n\n\nDistance\nVarious\n\n\nLocation\nCallendar Park\n\n\nTown/City\nFalkirk\n\n\nArea\nEdinburgh & The Lothians\n\n\nWebsite\nVisit website\n\n\n\nEntry can only be made through the Club. Contact Alison West to get yourself entered. NB SAL membership should be up to date \nEntries open within the Club Portal on Thursday 12th January 2023 \nEntries close at 5pm on Thursday 9th February 2023 \nNo late entries will be accepted.
URL:https://fraserburghrunningclub.co.uk/event/scottish-national-xc-championships-2/
END:VEVENT
BEGIN:VEVENT
DTSTART;TZID=Europe/London:20230211T080000
DTEND;TZID=Europe/London:20230211T170000
DTSTAMP:20260426T000501
CREATED:20220819T121424Z
LAST-MODIFIED:20220819T121424Z
UID:1846-1676102400-1676134800@fraserburghrunningclub.co.uk
SUMMARY:Forres XC
DESCRIPTION:
URL:https://fraserburghrunningclub.co.uk/event/forres-xc/
END:VEVENT
BEGIN:VEVENT
DTSTART;TZID=Europe/London:20230205T080000
DTEND;TZID=Europe/London:20230205T170000
DTSTAMP:20260426T000501
CREATED:20220819T122444Z
LAST-MODIFIED:20220819T122444Z
UID:1850-1675584000-1675616400@fraserburghrunningclub.co.uk
SUMMARY:National Masters XC champs
DESCRIPTION:Venue to be decided \nEntry through Club portal
URL:https://fraserburghrunningclub.co.uk/event/national-masters-xc-champs-2/
END:VEVENT
BEGIN:VEVENT
DTSTART;TZID=Europe/London:20230203T130000
DTEND;TZID=Europe/London:20230203T140000
DTSTAMP:20260426T000501
CREATED:20230127T134146Z
LAST-MODIFIED:20230127T134146Z
UID:1933-1675429200-1675432800@fraserburghrunningclub.co.uk
SUMMARY:Metro Aberdeen Proms 3K Winter Series Race 5
DESCRIPTION:Date\nFriday 3rd February\, 2023\n\n\nDistance\n3K\n\n\nLocation\nThe Beach Esplanade\n\n\nTown/City\nAberdeen\n\n\nArea\nNorth East\n\n\nStart time\n1:00pm\n\n\nOrganiser\nJackie Stewart\n\n\nWebsite\nVisit website
URL:https://fraserburghrunningclub.co.uk/event/metro-aberdeen-proms-3k-winter-series-race-5/
END:VEVENT
BEGIN:VEVENT
DTSTART;TZID=Europe/London:20230128T080000
DTEND;TZID=Europe/London:20230128T170000
DTSTAMP:20260426T000501
CREATED:20220819T121351Z
LAST-MODIFIED:20220819T121351Z
UID:1844-1674892800-1674925200@fraserburghrunningclub.co.uk
SUMMARY:Peterhead Aden Park XC
DESCRIPTION:
URL:https://fraserburghrunningclub.co.uk/event/peterhead-aden-park-xc/
END:VEVENT
BEGIN:VEVENT
DTSTART;TZID=Europe/London:20230127T110000
DTEND;TZID=Europe/London:20230127T140000
DTSTAMP:20260426T000501
CREATED:20230127T140601Z
LAST-MODIFIED:20230127T140601Z
UID:1941-1674817200-1674828000@fraserburghrunningclub.co.uk
SUMMARY:Newburgh Beach Bash 10K
DESCRIPTION:Date\nSaturday 18th March\, 2023\n\n\nDistance\n10K\n\n\nLocation\nGallows Hill Community Pavilion\n\n\nTown/City\nNewburgh\n\n\nArea\nFife & Central\n\n\nStart time\n11:00am\n\n\nWebsite\nVisit website\n\n\nList of Entrants\nView list
URL:https://fraserburghrunningclub.co.uk/event/newburgh-beach-bash-10k-2/
END:VEVENT
BEGIN:VEVENT
DTSTART;TZID=Europe/London:20221210T080000
DTEND;TZID=Europe/London:20221210T170000
DTSTAMP:20260426T000501
CREATED:20220819T121313Z
LAST-MODIFIED:20220831T115315Z
UID:1842-1670659200-1670691600@fraserburghrunningclub.co.uk
SUMMARY:Inverness  XC
DESCRIPTION:
URL:https://fraserburghrunningclub.co.uk/event/inverness-or-lochaber-xc/
END:VEVENT
BEGIN:VEVENT
DTSTART;TZID=Europe/London:20221203T080000
DTEND;TZID=Europe/London:20221203T170000
DTSTAMP:20260426T000501
CREATED:20220819T122210Z
LAST-MODIFIED:20220819T122210Z
UID:1848-1670054400-1670086800@fraserburghrunningclub.co.uk
SUMMARY:ND XC Champs  - Gordonstoun
DESCRIPTION:Entry through Club portal
URL:https://fraserburghrunningclub.co.uk/event/nd-xc-champs-gordonstoun/
END:VEVENT
BEGIN:VEVENT
DTSTART;VALUE=DATE:20221120
DTEND;VALUE=DATE:20221121
DTSTAMP:20260426T000501
CREATED:20220826T172414Z
LAST-MODIFIED:20220915T131936Z
UID:1855-1668902400-1668988799@fraserburghrunningclub.co.uk
SUMMARY:Fraserburgh Half Marathon
DESCRIPTION:Location: Fraserburgh South Links Running Track \nMulti terrain Half Marathon over generally flat course\, Starting and finishing on the Running Track. \nEntries are still open on Entrycentral. As of 15/09/22 there are only 71 place left.
URL:https://fraserburghrunningclub.co.uk/event/fraserburgh-half-marathon/
END:VEVENT
BEGIN:VEVENT
DTSTART;TZID=Europe/London:20221119T080000
DTEND;TZID=Europe/London:20221119T170000
DTSTAMP:20260426T000501
CREATED:20220819T121225Z
LAST-MODIFIED:20220819T121225Z
UID:1840-1668844800-1668877200@fraserburghrunningclub.co.uk
SUMMARY:Ross County XC
DESCRIPTION:
URL:https://fraserburghrunningclub.co.uk/event/ross-county-xc/
END:VEVENT
BEGIN:VEVENT
DTSTART;TZID=Europe/London:20221029T080000
DTEND;TZID=Europe/London:20221029T170000
DTSTAMP:20260426T000501
CREATED:20220819T121140Z
LAST-MODIFIED:20220819T121140Z
UID:1838-1667030400-1667062800@fraserburghrunningclub.co.uk
SUMMARY:Nairn XC
DESCRIPTION:
URL:https://fraserburghrunningclub.co.uk/event/nairn-xc/
END:VEVENT
BEGIN:VEVENT
DTSTART;TZID=Europe/London:20221023T110000
DTEND;TZID=Europe/London:20221023T170000
DTSTAMP:20260426T000501
CREATED:20220826T171540Z
LAST-MODIFIED:20220826T171540Z
UID:1853-1666522800-1666544400@fraserburghrunningclub.co.uk
SUMMARY:Culloden Run
DESCRIPTION:Distance 10K + other events: 17.46K \nLocation Culloden Visitor Centre\nTown/City Inverness\nArea Highlands\nStart postcode IV2 5EU\nStart time 11:00am
URL:https://fraserburghrunningclub.co.uk/event/culloden-run/
END:VEVENT
BEGIN:VEVENT
DTSTART;VALUE=DATE:20221022
DTEND;VALUE=DATE:20221023
DTSTAMP:20260426T000501
CREATED:20220817T112505Z
LAST-MODIFIED:20220817T112505Z
UID:1828-1666396800-1666483199@fraserburghrunningclub.co.uk
SUMMARY:Scottish National XC Relay Championships
DESCRIPTION:Cumbernauld\n\n\n\nEntries to be made via Club Secretary
URL:https://fraserburghrunningclub.co.uk/event/scottish-national-xc-relay-championships/
END:VEVENT
BEGIN:VEVENT
DTSTART;VALUE=DATE:20221008
DTEND;VALUE=DATE:20221009
DTSTAMP:20260426T000501
CREATED:20220817T112231Z
LAST-MODIFIED:20220817T112231Z
UID:1826-1665187200-1665273599@fraserburghrunningclub.co.uk
SUMMARY:North District XC Relay Champs
DESCRIPTION:Nairn Links \nEntry via Club portal
URL:https://fraserburghrunningclub.co.uk/event/north-district-xc-relay-champs/
END:VEVENT
BEGIN:VEVENT
DTSTART;TZID=Europe/London:20220925T120000
DTEND;TZID=Europe/London:20220925T170000
DTSTAMP:20260426T000501
CREATED:20220817T111938Z
LAST-MODIFIED:20220915T132349Z
UID:1824-1664107200-1664125200@fraserburghrunningclub.co.uk
SUMMARY:Crimond Run Fest
DESCRIPTION:6K + other events:  Fun Run\, 12K
URL:https://fraserburghrunningclub.co.uk/event/crimond-run-fest/
END:VEVENT
BEGIN:VEVENT
DTSTART;TZID=Europe/London:20220925T110000
DTEND;TZID=Europe/London:20220925T170000
DTSTAMP:20260426T000501
CREATED:20220817T110721Z
LAST-MODIFIED:20220910T094155Z
UID:1814-1664103600-1664125200@fraserburghrunningclub.co.uk
SUMMARY:Fyvie Castle
DESCRIPTION:5k
URL:https://fraserburghrunningclub.co.uk/event/fyvie-castle/
END:VEVENT
BEGIN:VEVENT
DTSTART;VALUE=DATE:20220925
DTEND;VALUE=DATE:20220926
DTSTAMP:20260426T000501
CREATED:20220817T111804Z
LAST-MODIFIED:20220817T111832Z
UID:1822-1664064000-1664150399@fraserburghrunningclub.co.uk
SUMMARY:Bennachie Hill Race
DESCRIPTION:At about 8.2 miles in length and with a total of 1500ft of ascent (13.1k and 500 metres)\, the senior race is a great challenge \nBennachie Hill Race Announcement \nThe proposed day for this year’s Bennachie Hill Race is Sunday 25th September 2022.  Keep an eye on our Facebook and Instagram pages for updates of when entries will open. \nIn the meantime\, if you fancy trying the route for yourself\, it can be found on our Training Routes page under the “Running” tab above\, along with some of our favourite local evening runs. \nIn 2014\, the Bennachie Hill Race celebrated its 25th year. It is firmly established in the hill running race calendar as one of the most popular races in North-East Scotland. \nIn 2007 the race was praised by the Daily Telegraph as one of Britain’s Top Ten Big Races for runners of all abilities. \nIn 2014\, Women’s Running magazine also named the BHR one of their Top 100 events. \nAt about 8.2 miles in length and with a total of 1500ft of ascent (13.1k and 500 metres)\, the Senior race is a great challenge for everyone. \nIn addition to the main (Senior) Hill Race\, we also hold a Junior Hill Race for runners 13–17\, which is approximately 5k
URL:https://fraserburghrunningclub.co.uk/event/bennachie-hill-race-2/
END:VEVENT
BEGIN:VEVENT
DTSTART;TZID=Europe/London:20220924T093000
DTEND;TZID=Europe/London:20220924T170000
DTSTAMP:20260426T000501
CREATED:20220817T111349Z
LAST-MODIFIED:20220817T111349Z
UID:1820-1664011800-1664038800@fraserburghrunningclub.co.uk
SUMMARY:PIM Half Marathon & 5K
DESCRIPTION:The National Trust for Scotland invites you to join the fun at the 2022 PIM Running Festival at Crathes Castle and its ground
URL:https://fraserburghrunningclub.co.uk/event/pim-half-marathon-5k/
END:VEVENT
BEGIN:VEVENT
DTSTART;TZID=Europe/London:20220918T093000
DTEND;TZID=Europe/London:20220918T170000
DTSTAMP:20260426T000501
CREATED:20220817T111037Z
LAST-MODIFIED:20220817T111037Z
UID:1818-1663493400-1663520400@fraserburghrunningclub.co.uk
SUMMARY:Middleton Trust Road Races
DESCRIPTION:The 5K and 10K attract runners from all over Scotland and continue to provide fierce competition for the 12 prizes in each distance
URL:https://fraserburghrunningclub.co.uk/event/middleton-trust-road-races/
END:VEVENT
BEGIN:VEVENT
DTSTART;TZID=Europe/London:20220917T150000
DTEND;TZID=Europe/London:20220917T170000
DTSTAMP:20260426T000501
CREATED:20220817T110856Z
LAST-MODIFIED:20220817T110856Z
UID:1816-1663426800-1663434000@fraserburghrunningclub.co.uk
SUMMARY:Cairn William Hill Race
DESCRIPTION:Distance – 11km / Climb – 430m
URL:https://fraserburghrunningclub.co.uk/event/cairn-william-hill-race/
END:VEVENT
BEGIN:VEVENT
DTSTART;TZID=Europe/London:20220907T190000
DTEND;TZID=Europe/London:20220907T190000
DTSTAMP:20260426T000501
CREATED:20220817T110521Z
LAST-MODIFIED:20220817T110521Z
UID:1812-1662577200-1662577200@fraserburghrunningclub.co.uk
SUMMARY:Athletics trust 3k Beach Prom
DESCRIPTION:3k series \n 
URL:https://fraserburghrunningclub.co.uk/event/athletics-trust-3k-beach-prom/
END:VEVENT
BEGIN:VEVENT
DTSTART;TZID=Europe/London:20220903T100000
DTEND;TZID=Europe/London:20220903T170000
DTSTAMP:20260426T000501
CREATED:20220817T110314Z
LAST-MODIFIED:20220817T110314Z
UID:1810-1662199200-1662224400@fraserburghrunningclub.co.uk
SUMMARY:Huntly Room to Roam
DESCRIPTION:Half \, 5k and 10k \nhttps://www.roomtorun.uk/
URL:https://fraserburghrunningclub.co.uk/event/huntly-room-to-roam/
END:VEVENT
BEGIN:VEVENT
DTSTART;VALUE=DATE:20220828
DTEND;VALUE=DATE:20220829
DTSTAMP:20260426T000501
CREATED:20220227T175623Z
LAST-MODIFIED:20220227T175623Z
UID:1008-1661644800-1661731199@fraserburghrunningclub.co.uk
SUMMARY:Run Banchory 10k and  Half Marathon Trail races
DESCRIPTION:The Run Banchory Race Committee are delighted to announce a new half marathon multi-terrain trail event in addition to our 10k event. \nCome and join us at our Run Banchory event at King George V Park on Sunday 28th August 2022 in association with SB Fitness. The main events are the existing 10k multi-terrain race and the NEW half marathon multi-terrain event with both predominately taking place in the scenic Scolty/Blackhall forest area. Both race routes will cater for all running abilities but will definitely be known as a good test. \nThere will also be a 1k run for school pupils between primary 1 and 7 and a 2.5k run for secondary pupils between S1-S4. Both runs will take place in the grounds of the King George V Park and the surrounding area. There will be medals\, refreshments and a great community atmosphere! \nhttps://www.resultsbase.net/event/6212 \n 
URL:https://fraserburghrunningclub.co.uk/event/run-banchory-10k-and-half-marathon-trail-races/
LOCATION:King George V Park\, Banchory
END:VEVENT
BEGIN:VEVENT
DTSTART;VALUE=DATE:20220828
DTEND;VALUE=DATE:20220829
DTSTAMP:20260426T000501
CREATED:20220119T144913Z
LAST-MODIFIED:20220119T144913Z
UID:933-1661644800-1661731199@fraserburghrunningclub.co.uk
SUMMARY:Buchan Trail Marathon 2022 (provisional Date)
DESCRIPTION:
URL:https://fraserburghrunningclub.co.uk/event/buchan-trail-marathon-2022-provisional-date/
LOCATION:Aden/Pitfour Mintlaw
END:VEVENT
BEGIN:VEVENT
DTSTART;TZID=Europe/London:20220827T103000
DTEND;TZID=Europe/London:20220827T170000
DTSTAMP:20260426T000501
CREATED:20220817T105933Z
LAST-MODIFIED:20220817T105933Z
UID:1808-1661596200-1661619600@fraserburghrunningclub.co.uk
SUMMARY:Mels Mile - Union Street
DESCRIPTION:https://gathimbaedwardsfoundation.org/product/safari-series-2022-entry/
URL:https://fraserburghrunningclub.co.uk/event/mels-mile-union-street/
END:VEVENT
BEGIN:VEVENT
DTSTART;TZID=Europe/London:20220814T090000
DTEND;TZID=Europe/London:20220814T170000
DTSTAMP:20260426T000501
CREATED:20220417T131527Z
LAST-MODIFIED:20220417T131559Z
UID:1039-1660467600-1660496400@fraserburghrunningclub.co.uk
SUMMARY:Deveron Harriers half marathon & 10k
DESCRIPTION:HALF MARATHON DETAILS \nRegistration at Duff House Rugby Club Pavillion from 9am (toilets available);\nBus leaves 10am to transport runners to Baden Powell Centre Turriff where the race briefing will take place (toilets available);\nThere will be short walk to the race start line on Markethill Road;\nRACE START: 11am Markethill Road\,Turriff;\nRACE FINISH: Duff House Rugby Club\, AB45 3SX \n10K DETAILS \nRegistration at Duff House Rugby Club Pavillion from 10am (toilets available);\nBus leaves 10.50am to transport runners to Castle Eden;\nRACE START: Castle Eden\, King Edward\, AB45 3LX at 12noon;\nRACE FINISH: Duff House Rugby Club\, AB45 3SX\n**ALL race finishers will receive a medal\, momentum and goody bag** \nEach race strictly limited to 300 – enter early to guarantee your place!\nOnline entry closing date 07 August 2022 \nhttps://www.entrycentral.com/festival/2120 \n 
URL:https://fraserburghrunningclub.co.uk/event/deveron-harriers-half-marathon-10k/
END:VEVENT
END:VCALENDAR